BEGIN:VCALENDAR
VERSION:2.0
PRODID:-//Académie Spatiale d&#039;Île-de-France - ECPv6.15.20//NONSGML v1.0//EN
CALSCALE:GREGORIAN
METHOD:PUBLISH
X-WR-CALNAME:Académie Spatiale d&#039;Île-de-France
X-ORIGINAL-URL:https://academiespatiale.fr
X-WR-CALDESC:Évènements pour Académie Spatiale d&#039;Île-de-France
REFRESH-INTERVAL;VALUE=DURATION:PT1H
X-Robots-Tag:noindex
X-PUBLISHED-TTL:PT1H
BEGIN:VTIMEZONE
TZID:Europe/Paris
BEGIN:DAYLIGHT
TZOFFSETFROM:+0100
TZOFFSETTO:+0200
TZNAME:CEST
DTSTART:20250330T010000
END:DAYLIGHT
BEGIN:STANDARD
TZOFFSETFROM:+0200
TZOFFSETTO:+0100
TZNAME:CET
DTSTART:20251026T010000
END:STANDARD
BEGIN:DAYLIGHT
TZOFFSETFROM:+0100
TZOFFSETTO:+0200
TZNAME:CEST
DTSTART:20260329T010000
END:DAYLIGHT
BEGIN:STANDARD
TZOFFSETFROM:+0200
TZOFFSETTO:+0100
TZNAME:CET
DTSTART:20261025T010000
END:STANDARD
BEGIN:DAYLIGHT
TZOFFSETFROM:+0100
TZOFFSETTO:+0200
TZNAME:CEST
DTSTART:20270328T010000
END:DAYLIGHT
BEGIN:STANDARD
TZOFFSETFROM:+0200
TZOFFSETTO:+0100
TZNAME:CET
DTSTART:20271031T010000
END:STANDARD
END:VTIMEZONE
BEGIN:VEVENT
DTSTART;TZID=Europe/Paris:20260225T170000
DTEND;TZID=Europe/Paris:20260225T190000
DTSTAMP:20260421T154011
CREATED:20260213T101209Z
LAST-MODIFIED:20260213T101305Z
UID:7999-1772038800-1772046000@academiespatiale.fr
SUMMARY:[Rencontre-conférence] Découvrir les métiers du Spatial à la Cité des Métiers de SQY
DESCRIPTION:Home\n		»\n			Archives for \n		\n\n\n\n\nLa Cité des Métiers de Saint-Quentin-en-Yvelines organise\, mercredi 25 février 2026\, une rencontre-conférence dédiée à la découverte des carrières du secteur spatial. À cette occasion\, l’Académie Spatiale d’Île-de-France interviendra pour présenter la diversité des métiers et formations menant aux professions du spatial. \n\n\n\n\n\nConférence et échange sur les métiers du spatial \n\n\n\nMercredi 25 février 202617h – 19h \n\n\n\nCité des Métiers de SQYBât. Forces1\, rue des Hêtres\, Trappes \n\n\n\nEntrée et parking gratuits \n\n\n\n\n\n\n			\n				\n			\n		\n\n\n\n\n\nLa rencontre débutera par une conférence consacrée aux métiers et à l’orientation dans le secteur spatial\, puis se poursuivra par un temps d’échange avec le public. Cet évènement est ouvert à tous et à toutes. Il s’adresse plus particulièrement aux jeunes de 19 à 25 ans ainsi qu’aux professionnel·les en reconversion. \n\n\n\nLa Cité des Métiers de Saint-Quentin-en-Yvelines (78) se positionne comme un « tiers-lieu de l’évolution professionnelle tout au long de la vie ». Elle rassemble des partenaires institutionnels et indépendants pour offrir un service adapté\, gratuit\, de qualité afin de répondre à toute personne en questionnement sur son projet professionnel. → Site officiel : La Cité des Métiers de Saint-Quentin-en-Yvelines (78)
URL:https://academiespatiale.fr/index.php/event/rencontre-conference-decouvrir-les-metiers-du-spatial-a-la-cite-des-metiers-de-sqy/
CATEGORIES:Conférence
ATTACH;FMTTYPE=image/png:https://academiespatiale.fr/wp-content/uploads/2026/02/CDM_25fev2026_metiers_spatial.png
END:VEVENT
END:VCALENDAR